BEGIN:VCALENDAR
VERSION:2.0
PRODID:-//pretix//pretix.eu//
BEGIN:VTIMEZONE
TZID:Europe/Berlin
BEGIN:STANDARD
DTSTART:20001029T040000
RRULE:FREQ=YEARLY;BYDAY=-1SU;BYMONTH=10
TZNAME:CET
TZOFFSETFROM:+0200
TZOFFSETTO:+0100
END:STANDARD
BEGIN:DAYLIGHT
DTSTART:20000326T030000
RRULE:FREQ=YEARLY;BYDAY=-1SU;BYMONTH=3
TZNAME:CEST
TZOFFSETFROM:+0100
TZOFFSETTO:+0200
END:DAYLIGHT
END:VTIMEZONE
BEGIN:VEVENT
UID:pretix-muaythai-bayern-vt-mtlby-4325902@muaythai-bayern.vereinsticket.d
 e
DTSTART;TZID=Europe/Berlin:20250208T140000
DTEND;TZID=Europe/Berlin:20250208T150000
DESCRIPTION:Tickets: https://muaythai-bayern.vereinsticket.de/vt-mtlby/4325
 902/\nVeranstalter: Verein zur Förderung und Ausübung von Selbstverteidi
 gung\, Kampfkunst und Kampfsport
DTSTAMP:20260423T090229Z
LOCATION:Muay Thai Sugrib Gym Kaufbeuren\, Zuschauerticket\, Füssener Stra
 ße 36\, 87600 Kaufbeuren
SUMMARY:Veranstaltung Kaufbeuren
END:VEVENT
END:VCALENDAR
