BEGIN:VCALENDAR
VERSION:2.0
PRODID:-//pretix//pretix.eu//
BEGIN:VTIMEZONE
TZID:Europe/Berlin
BEGIN:STANDARD
DTSTART:20001029T040000
RRULE:FREQ=YEARLY;BYDAY=-1SU;BYMONTH=10
TZNAME:CET
TZOFFSETFROM:+0200
TZOFFSETTO:+0100
END:STANDARD
BEGIN:DAYLIGHT
DTSTART:20000326T030000
RRULE:FREQ=YEARLY;BYDAY=-1SU;BYMONTH=3
TZNAME:CEST
TZOFFSETFROM:+0100
TZOFFSETTO:+0200
END:DAYLIGHT
END:VTIMEZONE
BEGIN:VEVENT
UID:pretix-muaythai-bayern-vt-mtlby-4325903@muaythai-bayern.vereinsticket.d
 e
DTSTART;TZID=Europe/Berlin:20250329T160000
DTEND;TZID=Europe/Berlin:20250329T170000
DESCRIPTION:Tickets: https://muaythai-bayern.vereinsticket.de/vt-mtlby/4325
 903/\nVeranstalter: Verein zur Förderung und Ausübung von Selbstverteidi
 gung\, Kampfkunst und Kampfsport
DTSTAMP:20260423T071054Z
LOCATION:Julius-Kunert-Halle\, Allgäuer Straße\, 87509 Immenstadt i. Allg
 äu
SUMMARY:Veranstaltung Immenstadt 
END:VEVENT
END:VCALENDAR
